BEGIN:VCALENDAR
VERSION:2.0
PRODID:-//Agriculture Applied Research Management (AgriARM) - ECPv6.15.11//NONSGML v1.0//EN
CALSCALE:GREGORIAN
METHOD:PUBLISH
X-WR-CALNAME:Agriculture Applied Research Management (AgriARM)
X-ORIGINAL-URL:https://agriarm.ca
X-WR-CALDESC:Events for Agriculture Applied Research Management (AgriARM)
REFRESH-INTERVAL;VALUE=DURATION:PT1H
X-Robots-Tag:noindex
X-PUBLISHED-TTL:PT1H
BEGIN:VTIMEZONE
TZID:America/Chicago
BEGIN:DAYLIGHT
TZOFFSETFROM:-0600
TZOFFSETTO:-0500
TZNAME:CDT
DTSTART:20250309T080000
END:DAYLIGHT
BEGIN:STANDARD
TZOFFSETFROM:-0500
TZOFFSETTO:-0600
TZNAME:CST
DTSTART:20251102T070000
END:STANDARD
BEGIN:DAYLIGHT
TZOFFSETFROM:-0600
TZOFFSETTO:-0500
TZNAME:CDT
DTSTART:20260308T080000
END:DAYLIGHT
BEGIN:STANDARD
TZOFFSETFROM:-0500
TZOFFSETTO:-0600
TZNAME:CST
DTSTART:20261101T070000
END:STANDARD
BEGIN:DAYLIGHT
TZOFFSETFROM:-0600
TZOFFSETTO:-0500
TZNAME:CDT
DTSTART:20270314T080000
END:DAYLIGHT
BEGIN:STANDARD
TZOFFSETFROM:-0500
TZOFFSETTO:-0600
TZNAME:CST
DTSTART:20271107T070000
END:STANDARD
END:VTIMEZONE
BEGIN:VEVENT
DTSTART;VALUE=DATE:20260721
DTEND;VALUE=DATE:20260722
DTSTAMP:20260425T100845
CREATED:20160111T202649Z
LAST-MODIFIED:20260325T145427Z
UID:199-1784592000-1784678399@agriarm.ca
SUMMARY:Indian Head Crop Management Field Day
DESCRIPTION:Tuesday\, July 21\, 2026\nIndian Head\, SK\nBell Barn\n\n  \n  \n  \n  \nFor more information\, visit www.iharf.ca \n 
URL:https://agriarm.ca/event/indian-head-crop-management-field-day/
LOCATION:Bell Barn / Indian Head Research Farm\, Indian Head\, Saskatchewan\, Canada
END:VEVENT
BEGIN:VEVENT
DTSTART;VALUE=DATE:20260728
DTEND;VALUE=DATE:20260729
DTSTAMP:20260425T100845
CREATED:20160211T163947Z
LAST-MODIFIED:20260325T145303Z
UID:270-1785196800-1785283199@agriarm.ca
SUMMARY:ECRF Field Day
DESCRIPTION:Tuesday\, July 28\, 2026\nYorkton\, SK\n\nMore information to come\, or visit https://www.ecrf.ca/
URL:https://agriarm.ca/event/ecrf-field-day/
LOCATION:East Central Research Farm\, Yorkton\, Saskatchewan\, Canada
END:VEVENT
BEGIN:VEVENT
DTSTART;VALUE=DATE:20260729
DTEND;VALUE=DATE:20260730
DTSTAMP:20260425T100845
CREATED:20170505T145658Z
LAST-MODIFIED:20260325T144414Z
UID:366-1785283200-1785369599@agriarm.ca
SUMMARY:Conservation Learning Centre Field Day
DESCRIPTION:Wednesday\, July 29\, 2026\nConservation Learning Center\nPrince Albert\, SK\n\n\n\n\n  \nFor more information\, visit https://saskclc.ca/
URL:https://agriarm.ca/event/conservation-learning-centre-field-day/
LOCATION:Conservation Learning Centre\, Prince Albert\, Saskatchewan\, S6V 6G1\, Canada
ORGANIZER;CN="CLC":MAILTO:info@conservationlearningcentre.com
END:VEVENT
END:VCALENDAR