BEGIN:VCALENDAR
VERSION:2.0
PRODID:-//Agriculture Applied Research Management (AgriARM) - ECPv6.15.11//NONSGML v1.0//EN
CALSCALE:GREGORIAN
METHOD:PUBLISH
X-WR-CALNAME:Agriculture Applied Research Management (AgriARM)
X-ORIGINAL-URL:https://agriarm.ca
X-WR-CALDESC:Events for Agriculture Applied Research Management (AgriARM)
REFRESH-INTERVAL;VALUE=DURATION:PT1H
X-Robots-Tag:noindex
X-PUBLISHED-TTL:PT1H
BEGIN:VTIMEZONE
TZID:America/Chicago
BEGIN:DAYLIGHT
TZOFFSETFROM:-0600
TZOFFSETTO:-0500
TZNAME:CDT
DTSTART:20150308T080000
END:DAYLIGHT
BEGIN:STANDARD
TZOFFSETFROM:-0500
TZOFFSETTO:-0600
TZNAME:CST
DTSTART:20151101T070000
END:STANDARD
BEGIN:DAYLIGHT
TZOFFSETFROM:-0600
TZOFFSETTO:-0500
TZNAME:CDT
DTSTART:20160313T080000
END:DAYLIGHT
BEGIN:STANDARD
TZOFFSETFROM:-0500
TZOFFSETTO:-0600
TZNAME:CST
DTSTART:20161106T070000
END:STANDARD
BEGIN:DAYLIGHT
TZOFFSETFROM:-0600
TZOFFSETTO:-0500
TZNAME:CDT
DTSTART:20170312T080000
END:DAYLIGHT
BEGIN:STANDARD
TZOFFSETFROM:-0500
TZOFFSETTO:-0600
TZNAME:CST
DTSTART:20171105T070000
END:STANDARD
BEGIN:DAYLIGHT
TZOFFSETFROM:-0600
TZOFFSETTO:-0500
TZNAME:CDT
DTSTART:20180311T080000
END:DAYLIGHT
BEGIN:STANDARD
TZOFFSETFROM:-0500
TZOFFSETTO:-0600
TZNAME:CST
DTSTART:20181104T070000
END:STANDARD
BEGIN:DAYLIGHT
TZOFFSETFROM:-0600
TZOFFSETTO:-0500
TZNAME:CDT
DTSTART:20190310T080000
END:DAYLIGHT
BEGIN:STANDARD
TZOFFSETFROM:-0500
TZOFFSETTO:-0600
TZNAME:CST
DTSTART:20191103T070000
END:STANDARD
BEGIN:DAYLIGHT
TZOFFSETFROM:-0600
TZOFFSETTO:-0500
TZNAME:CDT
DTSTART:20200308T080000
END:DAYLIGHT
BEGIN:STANDARD
TZOFFSETFROM:-0500
TZOFFSETTO:-0600
TZNAME:CST
DTSTART:20201101T070000
END:STANDARD
BEGIN:DAYLIGHT
TZOFFSETFROM:-0600
TZOFFSETTO:-0500
TZNAME:CDT
DTSTART:20210314T080000
END:DAYLIGHT
BEGIN:STANDARD
TZOFFSETFROM:-0500
TZOFFSETTO:-0600
TZNAME:CST
DTSTART:20211107T070000
END:STANDARD
BEGIN:DAYLIGHT
TZOFFSETFROM:-0600
TZOFFSETTO:-0500
TZNAME:CDT
DTSTART:20220313T080000
END:DAYLIGHT
BEGIN:STANDARD
TZOFFSETFROM:-0500
TZOFFSETTO:-0600
TZNAME:CST
DTSTART:20221106T070000
END:STANDARD
BEGIN:DAYLIGHT
TZOFFSETFROM:-0600
TZOFFSETTO:-0500
TZNAME:CDT
DTSTART:20230312T080000
END:DAYLIGHT
BEGIN:STANDARD
TZOFFSETFROM:-0500
TZOFFSETTO:-0600
TZNAME:CST
DTSTART:20231105T070000
END:STANDARD
BEGIN:DAYLIGHT
TZOFFSETFROM:-0600
TZOFFSETTO:-0500
TZNAME:CDT
DTSTART:20240310T080000
END:DAYLIGHT
BEGIN:STANDARD
TZOFFSETFROM:-0500
TZOFFSETTO:-0600
TZNAME:CST
DTSTART:20241103T070000
END:STANDARD
BEGIN:DAYLIGHT
TZOFFSETFROM:-0600
TZOFFSETTO:-0500
TZNAME:CDT
DTSTART:20250309T080000
END:DAYLIGHT
BEGIN:STANDARD
TZOFFSETFROM:-0500
TZOFFSETTO:-0600
TZNAME:CST
DTSTART:20251102T070000
END:STANDARD
BEGIN:DAYLIGHT
TZOFFSETFROM:-0600
TZOFFSETTO:-0500
TZNAME:CDT
DTSTART:20260308T080000
END:DAYLIGHT
BEGIN:STANDARD
TZOFFSETFROM:-0500
TZOFFSETTO:-0600
TZNAME:CST
DTSTART:20261101T070000
END:STANDARD
BEGIN:DAYLIGHT
TZOFFSETFROM:-0600
TZOFFSETTO:-0500
TZNAME:CDT
DTSTART:20270314T080000
END:DAYLIGHT
BEGIN:STANDARD
TZOFFSETFROM:-0500
TZOFFSETTO:-0600
TZNAME:CST
DTSTART:20271107T070000
END:STANDARD
END:VTIMEZONE
BEGIN:VEVENT
DTSTART;VALUE=DATE:20260709
DTEND;VALUE=DATE:20260710
DTSTAMP:20260425T113738
CREATED:20170614T211750Z
LAST-MODIFIED:20260325T144757Z
UID:381-1783555200-1783641599@agriarm.ca
SUMMARY:Irrigation Field Day
DESCRIPTION:Thursday\, July 9\, 2026\nOutlook\, SK\n  \nMore information to come\, or visit https://irrigationsask.com/events/
URL:https://agriarm.ca/event/csidc-field-day/
LOCATION:Outlook Research Farm\, Outlook\, Saskatchewan\, S0L 2N0\, Canada
END:VEVENT
BEGIN:VEVENT
DTSTART;VALUE=DATE:20260709
DTEND;VALUE=DATE:20260710
DTSTAMP:20260425T113738
CREATED:20160211T163657Z
LAST-MODIFIED:20260325T145914Z
UID:266-1783555200-1783641599@agriarm.ca
SUMMARY:South East Research Farm Field Day
DESCRIPTION:Thursday\, July 9\, 2026\nRedvers\, SK\nSouth East Research Farm\n\nMore information to come\, or visit https://serfsk.ca/resources-events\n\n 
URL:https://agriarm.ca/event/serf-field-day/
LOCATION:South East Research Farm\, Redvers\, Saskatchewan\, S0C 2H0\, Canada
END:VEVENT
BEGIN:VEVENT
DTSTART;VALUE=DATE:20260708
DTEND;VALUE=DATE:20260709
DTSTAMP:20260425T113738
CREATED:20160211T162133Z
LAST-MODIFIED:20260325T144625Z
UID:254-1783468800-1783555199@agriarm.ca
SUMMARY:Scott Field Day
DESCRIPTION:Wednesday\, July 8\, 2026\nWestern Applied Research Corporation\nScott\, SK\n\n\nFor more information\, visit https://www.westernappliedresearch.com/events/ \n\n\n\n\n\n 
URL:https://agriarm.ca/event/scott-field-day/
LOCATION:Scott Research Farm\, Scott\, Saskatchewan\, S0K 4A0\, Canada
END:VEVENT
BEGIN:VEVENT
DTSTART;VALUE=DATE:20250710
DTEND;VALUE=DATE:20250711
DTSTAMP:20260425T113738
CREATED:20170614T212521Z
LAST-MODIFIED:20250221T211137Z
UID:383-1752105600-1752191999@agriarm.ca
SUMMARY:CSIDC Field Day
DESCRIPTION:Thursday\, July 10\, 2025\nCanada-Saskatchewan Irrigation Diversification Centre\nOutlook\, SK\n\n  \nFor more information\, visit http://irrigationsask.com/events/ \n 
URL:https://agriarm.ca/event/icdc-field-day/
LOCATION:Outlook Research Farm\, Outlook\, Saskatchewan\, S0L 2N0\, Canada
END:VEVENT
BEGIN:VEVENT
DTSTART;VALUE=DATE:20250313
DTEND;VALUE=DATE:20250314
DTSTAMP:20260425T113738
CREATED:20170106T212122Z
LAST-MODIFIED:20250219T212920Z
UID:331-1741824000-1741910399@agriarm.ca
SUMMARY:Wheatland Conservation Area Cropportunities
DESCRIPTION:Thursday\, March 13\, 2025\nLiving Sky Casino Event Centre\nSwift Current\, SK\n\n  \nFor more information\, visit https://wheatlandconservation.ca/news-events/
URL:https://agriarm.ca/event/wheatland-conservation-area-cropportunities/
LOCATION:Living Sky Casino\, 1401 North Service Rd E\, Swift Current\, Saskatchewan\, S9H 3X6\, Canada
END:VEVENT
BEGIN:VEVENT
DTSTART;TZID=America/Chicago:20250312T083000
DTEND;TZID=America/Chicago:20250312T120000
DTSTAMP:20260425T113738
CREATED:20250219T203317Z
LAST-MODIFIED:20250219T213132Z
UID:750-1741768200-1741780800@agriarm.ca
SUMMARY:CLC/MOA Crop Talk
DESCRIPTION:Wednesday\, March 12\, 2025\nPrince Albert Wildlife Federation\nPrince Albert\, SK\n  \nFor more information\, visit https://conservationlearningcentre.com/events/\n\n 
URL:https://agriarm.ca/event/clc-moa-crop-talk/
LOCATION:Prince Albert Wildlife Federation
END:VEVENT
BEGIN:VEVENT
DTSTART;VALUE=DATE:20250227
DTEND;VALUE=DATE:20250228
DTSTAMP:20260425T113738
CREATED:20160211T153702Z
LAST-MODIFIED:20250221T210913Z
UID:232-1740614400-1740700799@agriarm.ca
SUMMARY:WARC Crop Opportunity
DESCRIPTION:Thursday\, February 27\, 2025\nWestern Development Museum\nNorth Battleford\, SK\n  \nFor more information\, visit https://www.westernappliedresearch.com/events/ \n  \n 
URL:https://agriarm.ca/event/warc-crop-opportunity/
LOCATION:Western Development Museum
END:VEVENT
BEGIN:VEVENT
DTSTART;TZID=America/Chicago:20220113T095500
DTEND;TZID=America/Chicago:20220113T133500
DTSTAMP:20260425T113738
CREATED:20160111T205328Z
LAST-MODIFIED:20211214T200346Z
UID:201-1642067700-1642080900@agriarm.ca
SUMMARY:AgriARM Research Update
DESCRIPTION:This years AgriARM Research Update will be held virtually\, there is no charge to attend the webinar. \n  \n \n  \n9:55 – Opening Remarks\n10:00 – An assessment of various crop inputs in oat production\n\nBrianne McInnes\, Northeast Agriculture Research Foundation \n10:25 – Cover crops under organic management\n\nRobin Lokken\, Conservation Learning Centre \n10:50 – Canola seed safety and yield response to novel P sources in Saskatchewan soils\n\nKayla Slind\, Western Applied Research Corporation \n11:15 – Sclerotinia risk assessment tools for spray decision support in canola\n\nChristiane Catellier\, Indian Head Agricultural Research Foundation \n11:40 – Break\n\n11:55 – Certified vs farm-saved seed: How does the quality compare?\n\nMike Hall\, East Central Research Foundation \n12:20 – Perennial ryegrass establishment with a nurse crop\n\nLana Shaw\, South East Research Farm \n12:45 – Plant diseases in a dry vs wet year: Overview\n\nGursahib Singh\, Irrigation Crop Diversification Corporation \n1:10 – An assessment of annual forage varieties in Saskatchewan\n\nAmber Wall\, Wheatland Conservation Area \n1:35 – Close\n  \nCCA & CCSC continuing education units pending \n  \nFull Agenda
URL:https://agriarm.ca/event/agriarm-research-update/
LOCATION:Virtual\, Canada
END:VEVENT
BEGIN:VEVENT
DTSTART;TZID=America/Chicago:20200205T083000
DTEND;TZID=America/Chicago:20200205T160000
DTSTAMP:20260425T113738
CREATED:20160111T202138Z
LAST-MODIFIED:20200109T215005Z
UID:197-1580891400-1580918400@agriarm.ca
SUMMARY:IHARF Soil and Crop Management Seminar & AGM
DESCRIPTION:Wednesday\, February 5\, 2020\nBalgonie\, SK\nBalgonie Multiplex\n  \nCome out and take in presentations by leading industry researchers:\n  \n8:30    Sign-In\n9:30    Findings from the 2019 IHARF agronomy research program\n\n– Chris Holzapfel\, IHARF\n10:15    The North American project to evaluate soil health indicators\n\n– Dr. Paul Tracy\, Soil Health Institute\n11:15    An Ag world without neonics…\n\n– Dr. Tyler Wist\, Agriculture & Agri-Food Canada\n12:00    Lunch (included)\n1:00    Insights into Canadians perceptions on agriculture\n\n– Dr. Stuart Smyth\, University of Saskatchewan\n1:45    New and upcoming sprayer technologies\n\n– Dr. Tom Wolf\, Agrimetrix Research & Training\n2:45    Findings from the 2019 AAFC agronomy research program\n\n– Bill May\, Agriculture & Agri-Food Canada\n3:30    IHARF Annual General Meeting\n  \nCCA & CCSC continuing education units pending\n  \n  \nRegister Here
URL:https://agriarm.ca/event/iharf-soil-and-crop-management-seminar-agm/
LOCATION:Balgonie Multi-Plex\, Balgonie\, Saskatchewan\, S0G 0E0\, Canada
END:VEVENT
BEGIN:VEVENT
DTSTART;VALUE=DATE:20190717
DTEND;VALUE=DATE:20190718
DTSTAMP:20260425T113738
CREATED:20190319T153831Z
LAST-MODIFIED:20190319T153831Z
UID:525-1563321600-1563407999@agriarm.ca
SUMMARY:SERF Intercropping Field Day
DESCRIPTION:Wednesday\, July 17\, 2019\nRedvers\, SK\nSouth East Research Farm\n\nMore information to come…
URL:https://agriarm.ca/event/serf-intercropping-field-day/
LOCATION:South East Research Farm\, Redvers\, Saskatchewan\, S0C 2H0\, Canada
END:VEVENT
BEGIN:VEVENT
DTSTART;VALUE=DATE:20170817
DTEND;VALUE=DATE:20170818
DTSTAMP:20260425T113738
CREATED:20170614T213821Z
LAST-MODIFIED:20170614T215015Z
UID:387-1502928000-1503014399@agriarm.ca
SUMMARY:ICDC Soybean Field Tour
DESCRIPTION:Thursday\, August 17\, 2017\nOutlook\, SK\nCSIDC Research Station\n  \nCost: Free\n  \nInterest in soybean production continues to grow in Saskatchewan\, due to shorter growing season varieties and improved yields from genetics. This fall\, ICDC will be hosting a full day field tour focused around soybean agronomy. \nThe morning tour will occur at the CSIDC\, and will focus on ICDC and AAFC research trials. Highlights of the morning tours include soybean fertility\, inoculation\, seeding rates\, seeding dates\, variety trials and water management. \nThe afternoon portion of the tour will have a disease focus and will be lead by Professor Dean Malvick (Plant Pathologist and Director of Graduate Studies\, University of Minnesota). The afternoon tour will take place at various irrigated and dryland fields where Dean will explain to participants how to identify disease in soybeans. This is a great opportunity for new growers to come and learn about soybean pathology from an expert. \nFor more information on this tour contact Sherri Roberts at (306) 848-2856
URL:https://agriarm.ca/event/icdc-soybean-tour/
LOCATION:Outlook Research Farm\, Outlook\, Saskatchewan\, S0L 2N0\, Canada
END:VEVENT
BEGIN:VEVENT
DTSTART;VALUE=DATE:20170725
DTEND;VALUE=DATE:20170726
DTSTAMP:20260425T113738
CREATED:20170628T174453Z
LAST-MODIFIED:20170628T175011Z
UID:414-1500940800-1501027199@agriarm.ca
SUMMARY:NARF Fusarium Head Blight Management Field Day
DESCRIPTION:Tuesday\, July 25\, 2017\nMelfort\, SK\nMelfort Research Farm\n\nCost: free\n\nTours: 9:00am – 3:00pm\nLunch Provided\n\nTours for the day will highlight discuss: \n\n\n\nThe biology of fusarium head blight\,\nmanagement and prevention of FHB\,\nSprayer application technology\,\nUsing machinery to improve grade\,\nand more…\n\n\n\nProducers are welcome to bring their own samples infected with FHB to see how this machinery can help improve grade. \nTo register\, please email neag.agro@gmail.com \nMore information here
URL:https://agriarm.ca/event/narf-fhb-management/
LOCATION:Melfort Research Farm\, Melfort\, Saskatchewan\, Canada
END:VEVENT
BEGIN:VEVENT
DTSTART;VALUE=DATE:20170626
DTEND;VALUE=DATE:20170627
DTSTAMP:20260425T113738
CREATED:20160211T163006Z
LAST-MODIFIED:20170614T213708Z
UID:261-1498435200-1498521599@agriarm.ca
SUMMARY:Saskatchewan Vegetable Growers Annual Field Day
DESCRIPTION:Monday\, June 26\, 2017\nOutlook\, SK\nCSIDC Research Station\n\nCost: Free\n\nThis year\, the Saskatchewan Vegetable Growers Association will be holding their annual field day in the Outlook/Dinsmore area. CSIDC will be featured as a tour stop and the venue for lunch.\nAt the stops\, participants will have the opportunity to learn about the extensive horticulture program at the research farm. The Irrigated Crop Diversification Corporation has 9 separate trials at CSIDC in 2017.\nThese trials range from sequential plantings of broccoli cultivars to the use of photo selective netting on fruit orchards. Other stops on this tour include tours of the Spring Creek Garden and the Dinsmore Colony Gardens.\nFor more information on the field day and to register\, phone (306) 975-6881
URL:https://agriarm.ca/event/svga-field-day/
LOCATION:Outlook Research Farm\, Outlook\, Saskatchewan\, S0L 2N0\, Canada
END:VEVENT
BEGIN:VEVENT
DTSTART;TZID=America/Chicago:20170321T080000
DTEND;TZID=America/Chicago:20170322T170000
DTSTAMP:20260425T113738
CREATED:20170106T215857Z
LAST-MODIFIED:20170106T220336Z
UID:339-1490083200-1490202000@agriarm.ca
SUMMARY:Subsurface Drainage Design and Water Management Workshop
DESCRIPTION:More information to come…
URL:https://agriarm.ca/event/subsurface-drainage-design-and-water-management-workshop/
LOCATION:Outlook Heritage Centre\, Railway Ave.\, Outlook\, Saskatchewan\, Canada
END:VEVENT
BEGIN:VEVENT
DTSTART;TZID=America/Chicago:20161207T080000
DTEND;TZID=America/Chicago:20161207T120000
DTSTAMP:20260425T113738
CREATED:20160211T161730Z
LAST-MODIFIED:20160211T163419Z
UID:253-1481097600-1481112000@agriarm.ca
SUMMARY:ICDC AGM
DESCRIPTION:ICDC hosts its annual general meeting for members in conjunction with the annual Irrigation Conference. You are invited to attend and set the direction for ICDC and irrigation research. \nVenue TBA.
URL:https://agriarm.ca/event/icdc-agm/
LOCATION:Saskatchewan
END:VEVENT
BEGIN:VEVENT
DTSTART;VALUE=DATE:20161206
DTEND;VALUE=DATE:20161207
DTSTAMP:20260425T113738
CREATED:20160211T161612Z
LAST-MODIFIED:20160211T161612Z
UID:252-1480982400-1481068799@agriarm.ca
SUMMARY:21st Annual Irrigation Conference
DESCRIPTION:Save the date! \nThis annual conference is organized jointly by ICDC and SIPA. ICDC presents its findings from the current year’s research and demonstration program. There are also several guest speakers that address current irrigation issues that affect Saskatchewan irrigators. \nVenue and details TBA.
URL:https://agriarm.ca/event/21st-annual-irrigation-conference/
LOCATION:Saskatchewan
END:VEVENT
BEGIN:VEVENT
DTSTART;TZID=America/Chicago:20160323T130000
DTEND;TZID=America/Chicago:20160323T163000
DTSTAMP:20260425T113738
CREATED:20160211T161416Z
LAST-MODIFIED:20160211T161416Z
UID:250-1458738000-1458750600@agriarm.ca
SUMMARY:Irrigation Agronomy Update - Riverhurst
DESCRIPTION:This annual event is eligible for CCA credits. This year\, there will be presentations on the following topics: \n  \n\nSaskatchewan’s Sojourning Soybeans\nIrrigated Corn – A Fit for Saskatchewan?\nNiche Dry Bean & Marrowfat Pea\nYara\nThe Rack’s Field Program\nFungicide Management for Faba Bean\nWill Lentil be Grown Under Irrigation in 2016?\nAn overview of ICDCs 2016 Field Program
URL:https://agriarm.ca/event/irrigation-agronomy-update-riverhurst/
LOCATION:Riverhurst Community Hall\, 115 Main St.\, Riverhurst\, Saskatchewan\, Canada
END:VEVENT
BEGIN:VEVENT
DTSTART;TZID=America/Chicago:20160322T130000
DTEND;TZID=America/Chicago:20160322T163000
DTSTAMP:20260425T113738
CREATED:20160211T160541Z
LAST-MODIFIED:20160211T160541Z
UID:246-1458651600-1458664200@agriarm.ca
SUMMARY:Irrigation Agronomy Update - Outlook
DESCRIPTION:This annual event is eligible for CCA credits. This year\, there will be presentations on the following topics: \n  \n\nSaskatchewan’s Sojourning Soybeans\nIrrigated Corn – A Fit for Saskatchewan?\nNiche Dry Bean & Marrowfat Pea\nYara\nThe Rack’s Field Program\nFungicide Management for Faba Bean\nWill Lentil be Grown Under Irrigation in 2016?\nAn overview of ICDCs 2016 Field Program
URL:https://agriarm.ca/event/irrigation-agronomy-update-outlook/
LOCATION:Outlook Heritage Centre\, Railway Ave.\, Outlook\, Saskatchewan\, Canada
END:VEVENT
BEGIN:VEVENT
DTSTART;TZID=America/Chicago:20160318T094500
DTEND;TZID=America/Chicago:20160318T163000
DTSTAMP:20260425T113738
CREATED:20160311T174518Z
LAST-MODIFIED:20160311T174518Z
UID:284-1458294300-1458318600@agriarm.ca
SUMMARY:Innovative Strategies for Agriculture
DESCRIPTION:9:45 – Registration and Memberships\n10:00 – Lana Shaw – South East Research Farm\n– Research Update and Review of Annual Report\n– Review of 2016 Workplan for SERF\n11:20 – SERF Annual General Meeting\n12:00 – Buffet Lunch Lunch Speaker – 4H Crop Clubs in Saskatchewan – Derek Axten\n12:40 – Embracing Complexity on the Farm – Derek Axten\, Farmer from Minton\, SK\n1:40 – Specialty Milling Markets – P&H Grain Broker\n2:20 – Break\n2:40 – Rethinking Crop Rotations – Seed Grower Kevin Elmy from Saltcoats\, SK\n3:30 – Producer Panel – Outside the Box Farming (practical applications of intercropping\, cover cropping and other plant-based agronomy)\n4:30 – Adjourn
URL:https://agriarm.ca/event/innovative-strategies-for-agriculture/
LOCATION:Kenosee Inn\, 100 Kenosee Dr.\, Kenosee\, Saskatchewan\, Canada
END:VEVENT
BEGIN:VEVENT
DTSTART;VALUE=DATE:20160309
DTEND;VALUE=DATE:20160310
DTSTAMP:20260425T113738
CREATED:20160211T155354Z
LAST-MODIFIED:20160211T155354Z
UID:240-1457481600-1457567999@agriarm.ca
SUMMARY:NARF Winter Agronomy Update
DESCRIPTION:Pre registration is requested as space is limited. Topics for the day will include: \n  \n\nTile Drainage: a solution for excess water?\nVariable Rate Technology in Canola\nFaba Bean Agronomy\nPhosphorus Placement in Canola\nFertilizing Canaryseed\nBourgault Tour
URL:https://agriarm.ca/event/narf-winter-agronomy-update/
LOCATION:St. Brieux Community Hall\, St. Brieux\, Saskatchewan\, Canada
END:VEVENT
END:VCALENDAR