BEGIN:VCALENDAR
VERSION:2.0
PRODID:-//Agriculture Applied Research Management (AgriARM) - ECPv6.15.11//NONSGML v1.0//EN
CALSCALE:GREGORIAN
METHOD:PUBLISH
X-WR-CALNAME:Agriculture Applied Research Management (AgriARM)
X-ORIGINAL-URL:https://agriarm.ca
X-WR-CALDESC:Events for Agriculture Applied Research Management (AgriARM)
REFRESH-INTERVAL;VALUE=DURATION:PT1H
X-Robots-Tag:noindex
X-PUBLISHED-TTL:PT1H
BEGIN:VTIMEZONE
TZID:America/Chicago
BEGIN:DAYLIGHT
TZOFFSETFROM:-0600
TZOFFSETTO:-0500
TZNAME:CDT
DTSTART:20250309T080000
END:DAYLIGHT
BEGIN:STANDARD
TZOFFSETFROM:-0500
TZOFFSETTO:-0600
TZNAME:CST
DTSTART:20251102T070000
END:STANDARD
BEGIN:DAYLIGHT
TZOFFSETFROM:-0600
TZOFFSETTO:-0500
TZNAME:CDT
DTSTART:20260308T080000
END:DAYLIGHT
BEGIN:STANDARD
TZOFFSETFROM:-0500
TZOFFSETTO:-0600
TZNAME:CST
DTSTART:20261101T070000
END:STANDARD
BEGIN:DAYLIGHT
TZOFFSETFROM:-0600
TZOFFSETTO:-0500
TZNAME:CDT
DTSTART:20270314T080000
END:DAYLIGHT
BEGIN:STANDARD
TZOFFSETFROM:-0500
TZOFFSETTO:-0600
TZNAME:CST
DTSTART:20271107T070000
END:STANDARD
END:VTIMEZONE
BEGIN:VEVENT
DTSTART;VALUE=DATE:20260716
DTEND;VALUE=DATE:20260717
DTSTAMP:20260425T075520
CREATED:20160211T162549Z
LAST-MODIFIED:20260325T145558Z
UID:256-1784160000-1784246399@agriarm.ca
SUMMARY:Wheatland Conservation Area Field Day
DESCRIPTION:Thursday\, July 16\, 2027\nSwift Current\, SK\n  \nFor more information\, visit https://wheatlandconservation.ca/news-events/
URL:https://agriarm.ca/event/wca-field-day/
LOCATION:WCA Research Farm\, Swift Current\, Saskatchewan\, S9H 0L6\, Canada
END:VEVENT
BEGIN:VEVENT
DTSTART;TZID=America/Chicago:20260716T080000
DTEND;TZID=America/Chicago:20260716T120000
DTSTAMP:20260425T075520
CREATED:20250624T223010Z
LAST-MODIFIED:20260325T143726Z
UID:871-1784188800-1784203200@agriarm.ca
SUMMARY:Melfort Minor/Niche Crops Tour
DESCRIPTION:Thursday\, July 16\, 2026\nMelfort Research Farm\nMelfort\, SK\n  \nFor more information\, visit https://neag.ca/events/
URL:https://agriarm.ca/event/melfort-minor-niche-crops-tour/
LOCATION:Melfort Research Farm\, Melfort\, Saskatchewan\, Canada
END:VEVENT
END:VCALENDAR